BEGIN:VCALENDAR
VERSION:2.0
PRODID:-//Tähtvere Tennisekeskus - ECPv6.15.19//NONSGML v1.0//EN
CALSCALE:GREGORIAN
METHOD:PUBLISH
X-ORIGINAL-URL:https://tartutennis.ee
X-WR-CALDESC:Events for Tähtvere Tennisekeskus
REFRESH-INTERVAL;VALUE=DURATION:PT1H
X-Robots-Tag:noindex
X-PUBLISHED-TTL:PT1H
BEGIN:VTIMEZONE
TZID:Europe/Helsinki
BEGIN:DAYLIGHT
TZOFFSETFROM:+0200
TZOFFSETTO:+0300
TZNAME:EEST
DTSTART:20240331T010000
END:DAYLIGHT
BEGIN:STANDARD
TZOFFSETFROM:+0300
TZOFFSETTO:+0200
TZNAME:EET
DTSTART:20241027T010000
END:STANDARD
BEGIN:DAYLIGHT
TZOFFSETFROM:+0200
TZOFFSETTO:+0300
TZNAME:EEST
DTSTART:20250330T010000
END:DAYLIGHT
BEGIN:STANDARD
TZOFFSETFROM:+0300
TZOFFSETTO:+0200
TZNAME:EET
DTSTART:20251026T010000
END:STANDARD
BEGIN:DAYLIGHT
TZOFFSETFROM:+0200
TZOFFSETTO:+0300
TZNAME:EEST
DTSTART:20260329T010000
END:DAYLIGHT
BEGIN:STANDARD
TZOFFSETFROM:+0300
TZOFFSETTO:+0200
TZNAME:EET
DTSTART:20261025T010000
END:STANDARD
END:VTIMEZONE
BEGIN:VEVENT
DTSTART;TZID=Europe/Helsinki:20250803T160000
DTEND;TZID=Europe/Helsinki:20250803T180000
DTSTAMP:20260421T204508
CREATED:20250708T120337Z
LAST-MODIFIED:20250708T120337Z
UID:10001105-1754236800-1754244000@tartutennis.ee
SUMMARY:Tublid Tulijad
DESCRIPTION:Igal pühapäeval kell 16:00 kuni 18:00 toimuv ajatennise formaadis paarismängu turniir\, mis on heaks alternatiiviks klubitennise huvilistele\, kes on alles tennisetreeningutega alustanud ja sooviksid oma oskusi turniiri formaadis proovile panna. See on just õige koht\, kus saada esimene paarismängu kogemus\, proovida mängu erinevate paarilistega ja arendada oma mängusoskusi. \nOsalema on oodatud kõik tennisesõbrad olenemata klubilisest kuuluvusest ning kelle mängutase ei ole kõrgem kui IV liiga. \n\nRegistreerimine avatakse igal kolmapäeval kell 12.00\nIga osaleja saab 4 x 30-minutit mänguaega\nKontaktisik: Birgit Lehtlaan\nHind: 20€\nOsalustasu tuleb tasuda ka juhul\, osalus tühistatakse vähem kui 48 tundi enne Tublide Tulijate algust
URL:https://tartutennis.ee/sundmus/tublid-tulijad-35/
CATEGORIES:Tublid Tulijad
ATTACH;FMTTYPE=image/jpeg:https://www.tartutennis.ee/wp-content/uploads/2024/12/Tennisekeskus-1-2-2.jpg
END:VEVENT
BEGIN:VEVENT
DTSTART;TZID=Europe/Helsinki:20250810T160000
DTEND;TZID=Europe/Helsinki:20250810T180000
DTSTAMP:20260421T204508
CREATED:20250806T080844Z
LAST-MODIFIED:20250806T080844Z
UID:10001113-1754841600-1754848800@tartutennis.ee
SUMMARY:Tublid Tulijad
DESCRIPTION:Igal pühapäeval kell 16:00 kuni 18:00 toimuv ajatennise formaadis paarismängu turniir\, mis on heaks alternatiiviks klubitennise huvilistele\, kes on alles tennisetreeningutega alustanud ja sooviksid oma oskusi turniiri formaadis proovile panna. See on just õige koht\, kus saada esimene paarismängu kogemus\, proovida mängu erinevate paarilistega ja arendada oma mängusoskusi. \nOsalema on oodatud kõik tennisesõbrad olenemata klubilisest kuuluvusest ning kelle mängutase ei ole kõrgem kui IV liiga. \n\nRegistreerimine avatakse igal kolmapäeval kell 12.00\nIga osaleja saab 4 x 30-minutit mänguaega\nKontaktisik: Birgit Lehtlaan\nHind: 20€\nOsalustasu tuleb tasuda ka juhul\, osalus tühistatakse vähem kui 48 tundi enne Tublide Tulijate algust
URL:https://tartutennis.ee/sundmus/tublid-tulijad-37/
CATEGORIES:Tublid Tulijad
ATTACH;FMTTYPE=image/jpeg:https://www.tartutennis.ee/wp-content/uploads/2024/12/Tennisekeskus-1-2-2.jpg
END:VEVENT
BEGIN:VEVENT
DTSTART;TZID=Europe/Helsinki:20250817T160000
DTEND;TZID=Europe/Helsinki:20250817T180000
DTSTAMP:20260421T204508
CREATED:20250813T073915Z
LAST-MODIFIED:20250813T073915Z
UID:10001116-1755446400-1755453600@tartutennis.ee
SUMMARY:Tublid Tulijad
DESCRIPTION:Igal pühapäeval kell 16:00 kuni 18:00 toimuv ajatennise formaadis paarismängu turniir\, mis on heaks alternatiiviks klubitennise huvilistele\, kes on alles tennisetreeningutega alustanud ja sooviksid oma oskusi turniiri formaadis proovile panna. See on just õige koht\, kus saada esimene paarismängu kogemus\, proovida mängu erinevate paarilistega ja arendada oma mängusoskusi. \nOsalema on oodatud kõik tennisesõbrad olenemata klubilisest kuuluvusest ning kelle mängutase ei ole kõrgem kui IV liiga. \n\nRegistreerimine avatakse igal kolmapäeval kell 12.00\nIga osaleja saab 4 x 30-minutit mänguaega\nKontaktisik: Birgit Lehtlaan\nHind: 20€\nOsalustasu tuleb tasuda ka juhul\, osalus tühistatakse vähem kui 48 tundi enne Tublide Tulijate algust
URL:https://tartutennis.ee/sundmus/tublid-tulijad-38/
CATEGORIES:Tublid Tulijad
ATTACH;FMTTYPE=image/jpeg:https://www.tartutennis.ee/wp-content/uploads/2024/12/Tennisekeskus-1-2-2.jpg
END:VEVENT
BEGIN:VEVENT
DTSTART;TZID=Europe/Helsinki:20250824T160000
DTEND;TZID=Europe/Helsinki:20250824T180000
DTSTAMP:20260421T204508
CREATED:20250818T125123Z
LAST-MODIFIED:20250818T125123Z
UID:10001119-1756051200-1756058400@tartutennis.ee
SUMMARY:Tublid Tulijad
DESCRIPTION:Igal pühapäeval kell 16:00 kuni 18:00 toimuv ajatennise formaadis paarismängu turniir\, mis on heaks alternatiiviks klubitennise huvilistele\, kes on alles tennisetreeningutega alustanud ja sooviksid oma oskusi turniiri formaadis proovile panna. See on just õige koht\, kus saada esimene paarismängu kogemus\, proovida mängu erinevate paarilistega ja arendada oma mängusoskusi. \nOsalema on oodatud kõik tennisesõbrad olenemata klubilisest kuuluvusest ning kelle mängutase ei ole kõrgem kui IV liiga. \n\nRegistreerimine avatakse igal kolmapäeval kell 12.00\nIga osaleja saab 4 x 30-minutit mänguaega\nKontaktisik: Birgit Lehtlaan\nHind: 20€\nOsalustasu tuleb tasuda ka juhul\, osalus tühistatakse vähem kui 48 tundi enne Tublide Tulijate algust
URL:https://tartutennis.ee/sundmus/tublid-tulijad-39/
CATEGORIES:Tublid Tulijad
ATTACH;FMTTYPE=image/jpeg:https://www.tartutennis.ee/wp-content/uploads/2024/12/Tennisekeskus-1-2-2.jpg
END:VEVENT
END:VCALENDAR