BEGIN:VCALENDAR
VERSION:2.0
PRODID:-//Tähtvere Tennisekeskus - ECPv6.15.19//NONSGML v1.0//EN
CALSCALE:GREGORIAN
METHOD:PUBLISH
X-ORIGINAL-URL:https://tartutennis.ee
X-WR-CALDESC:Events for Tähtvere Tennisekeskus
REFRESH-INTERVAL;VALUE=DURATION:PT1H
X-Robots-Tag:noindex
X-PUBLISHED-TTL:PT1H
BEGIN:VTIMEZONE
TZID:Europe/Helsinki
BEGIN:DAYLIGHT
TZOFFSETFROM:+0200
TZOFFSETTO:+0300
TZNAME:EEST
DTSTART:20240331T010000
END:DAYLIGHT
BEGIN:STANDARD
TZOFFSETFROM:+0300
TZOFFSETTO:+0200
TZNAME:EET
DTSTART:20241027T010000
END:STANDARD
BEGIN:DAYLIGHT
TZOFFSETFROM:+0200
TZOFFSETTO:+0300
TZNAME:EEST
DTSTART:20250330T010000
END:DAYLIGHT
BEGIN:STANDARD
TZOFFSETFROM:+0300
TZOFFSETTO:+0200
TZNAME:EET
DTSTART:20251026T010000
END:STANDARD
BEGIN:DAYLIGHT
TZOFFSETFROM:+0200
TZOFFSETTO:+0300
TZNAME:EEST
DTSTART:20260329T010000
END:DAYLIGHT
BEGIN:STANDARD
TZOFFSETFROM:+0300
TZOFFSETTO:+0200
TZNAME:EET
DTSTART:20261025T010000
END:STANDARD
END:VTIMEZONE
BEGIN:VEVENT
DTSTART;TZID=Europe/Helsinki:20250706T160000
DTEND;TZID=Europe/Helsinki:20250706T180000
DTSTAMP:20260421T224229
CREATED:20250617T070847Z
LAST-MODIFIED:20250708T115020Z
UID:10001097-1751817600-1751824800@tartutennis.ee
SUMMARY:Tublid Tulijad
DESCRIPTION:Igal pühapäeval kell 16:00 kuni 18:00 toimuv ajatennise formaadis paarismängu turniir\, mis on heaks alternatiiviks klubitennise huvilistele\, kes on alles tennisetreeningutega alustanud ja sooviksid oma oskusi turniiri formaadis proovile panna. See on just õige koht\, kus saada esimene paarismängu kogemus\, proovida mängu erinevate paarilistega ja arendada oma mängusoskusi. \nOsalema on oodatud kõik tennisesõbrad olenemata klubilisest kuuluvusest ning kelle mängutase ei ole kõrgem kui IV liiga. \n\nRegistreerimine avatakse igal kolmapäeval kell 12.00\nIga osaleja saab 4 x 30-minutit mänguaega\nKontaktisik: Birgit Lehtlaan\nHind: 20€\nOsalustasu tuleb tasuda ka juhul\, osalus tühistatakse vähem kui 48 tundi enne Tublide Tulijate algust
URL:https://tartutennis.ee/sundmus/tublid-tulijad-31/
CATEGORIES:Tublid Tulijad
ATTACH;FMTTYPE=image/jpeg:https://www.tartutennis.ee/wp-content/uploads/2024/12/Tennisekeskus-1-2-2.jpg
END:VEVENT
BEGIN:VEVENT
DTSTART;TZID=Europe/Helsinki:20250713T140000
DTEND;TZID=Europe/Helsinki:20250713T160000
DTSTAMP:20260421T224229
CREATED:20250708T115952Z
LAST-MODIFIED:20250709T080255Z
UID:10001101-1752415200-1752422400@tartutennis.ee
SUMMARY:Tublid Tulijad
DESCRIPTION:Pühapäeval kell 14:00 kuni 16:00 toimub ajatennise formaadis paarismängu turniir\, mis on heaks alternatiiviks klubitennise huvilistele\, kes on alles tennisetreeningutega alustanud ja sooviksid oma oskusi turniiri formaadis proovile panna. See on just õige koht\, kus saada esimene paarismängu kogemus\, proovida mängu erinevate paarilistega ja arendada oma mängusoskusi. \nOsalema on oodatud kõik tennisesõbrad olenemata klubilisest kuuluvusest ning kelle mängutase ei ole kõrgem kui IV liiga. \n\nRegistreerimine avatakse igal kolmapäeval kell 12.00\nIga osaleja saab 4 x 30-minutit mänguaega\nKontaktisik: Birgit Lehtlaan\nHind: 20€\nOsalustasu tuleb tasuda ka juhul\, osalus tühistatakse vähem kui 48 tundi enne Tublide Tulijate algust
URL:https://tartutennis.ee/sundmus/tublid-tulijad-33/
CATEGORIES:Tublid Tulijad
ATTACH;FMTTYPE=image/jpeg:https://www.tartutennis.ee/wp-content/uploads/2024/12/Tennisekeskus-1-2-2.jpg
END:VEVENT
BEGIN:VEVENT
DTSTART;TZID=Europe/Helsinki:20250720T160000
DTEND;TZID=Europe/Helsinki:20250720T180000
DTSTAMP:20260421T224229
CREATED:20250708T115407Z
LAST-MODIFIED:20250708T115432Z
UID:10001100-1753027200-1753034400@tartutennis.ee
SUMMARY:Tublid Tulijad
DESCRIPTION:Igal pühapäeval kell 16:00 kuni 18:00 toimuv ajatennise formaadis paarismängu turniir\, mis on heaks alternatiiviks klubitennise huvilistele\, kes on alles tennisetreeningutega alustanud ja sooviksid oma oskusi turniiri formaadis proovile panna. See on just õige koht\, kus saada esimene paarismängu kogemus\, proovida mängu erinevate paarilistega ja arendada oma mängusoskusi. \nOsalema on oodatud kõik tennisesõbrad olenemata klubilisest kuuluvusest ning kelle mängutase ei ole kõrgem kui IV liiga. \n\nRegistreerimine avatakse igal kolmapäeval kell 12.00\nIga osaleja saab 4 x 30-minutit mänguaega\nKontaktisik: Birgit Lehtlaan\nHind: 20€\nOsalustasu tuleb tasuda ka juhul\, osalus tühistatakse vähem kui 48 tundi enne Tublide Tulijate algust
URL:https://tartutennis.ee/sundmus/tublid-tulijad-32/
CATEGORIES:Tublid Tulijad
ATTACH;FMTTYPE=image/jpeg:https://www.tartutennis.ee/wp-content/uploads/2024/12/Tennisekeskus-1-2-2.jpg
END:VEVENT
BEGIN:VEVENT
DTSTART;TZID=Europe/Helsinki:20250727T160000
DTEND;TZID=Europe/Helsinki:20250727T180000
DTSTAMP:20260421T224229
CREATED:20250708T120207Z
LAST-MODIFIED:20250708T120207Z
UID:10001103-1753632000-1753639200@tartutennis.ee
SUMMARY:Tublid Tulijad
DESCRIPTION:Igal pühapäeval kell 16:00 kuni 18:00 toimuv ajatennise formaadis paarismängu turniir\, mis on heaks alternatiiviks klubitennise huvilistele\, kes on alles tennisetreeningutega alustanud ja sooviksid oma oskusi turniiri formaadis proovile panna. See on just õige koht\, kus saada esimene paarismängu kogemus\, proovida mängu erinevate paarilistega ja arendada oma mängusoskusi. \nOsalema on oodatud kõik tennisesõbrad olenemata klubilisest kuuluvusest ning kelle mängutase ei ole kõrgem kui IV liiga. \n\nRegistreerimine avatakse igal kolmapäeval kell 12.00\nIga osaleja saab 4 x 30-minutit mänguaega\nKontaktisik: Birgit Lehtlaan\nHind: 20€\nOsalustasu tuleb tasuda ka juhul\, osalus tühistatakse vähem kui 48 tundi enne Tublide Tulijate algust
URL:https://tartutennis.ee/sundmus/tublid-tulijad-34/
CATEGORIES:Tublid Tulijad
ATTACH;FMTTYPE=image/jpeg:https://www.tartutennis.ee/wp-content/uploads/2024/12/Tennisekeskus-1-2-2.jpg
END:VEVENT
END:VCALENDAR