BEGIN:VCALENDAR
VERSION:2.0
PRODID:-//Tähtvere Tennisekeskus - ECPv6.15.19//NONSGML v1.0//EN
CALSCALE:GREGORIAN
METHOD:PUBLISH
X-WR-CALNAME:Tähtvere Tennisekeskus
X-ORIGINAL-URL:https://tartutennis.ee
X-WR-CALDESC:Events for Tähtvere Tennisekeskus
REFRESH-INTERVAL;VALUE=DURATION:PT1H
X-Robots-Tag:noindex
X-PUBLISHED-TTL:PT1H
BEGIN:VTIMEZONE
TZID:Europe/Helsinki
BEGIN:DAYLIGHT
TZOFFSETFROM:+0200
TZOFFSETTO:+0300
TZNAME:EEST
DTSTART:20240331T010000
END:DAYLIGHT
BEGIN:STANDARD
TZOFFSETFROM:+0300
TZOFFSETTO:+0200
TZNAME:EET
DTSTART:20241027T010000
END:STANDARD
BEGIN:DAYLIGHT
TZOFFSETFROM:+0200
TZOFFSETTO:+0300
TZNAME:EEST
DTSTART:20250330T010000
END:DAYLIGHT
BEGIN:STANDARD
TZOFFSETFROM:+0300
TZOFFSETTO:+0200
TZNAME:EET
DTSTART:20251026T010000
END:STANDARD
BEGIN:DAYLIGHT
TZOFFSETFROM:+0200
TZOFFSETTO:+0300
TZNAME:EEST
DTSTART:20260329T010000
END:DAYLIGHT
BEGIN:STANDARD
TZOFFSETFROM:+0300
TZOFFSETTO:+0200
TZNAME:EET
DTSTART:20261025T010000
END:STANDARD
END:VTIMEZONE
BEGIN:VEVENT
DTSTART;TZID=Europe/Helsinki:20250504T140000
DTEND;TZID=Europe/Helsinki:20250504T160000
DTSTAMP:20260423T135230
CREATED:20250407T035714Z
LAST-MODIFIED:20250407T035714Z
UID:10001067-1746367200-1746374400@tartutennis.ee
SUMMARY:Tublid Tulijad
DESCRIPTION:Igal pühapäeval kell 14:00 kuni 16:00 toimuv ajatennise formaadis paarismängu turniir\, mis on heaks alternatiiviks klubitennise huvilistele\, kes on alles tennisetreeningutega alustanud ja sooviksid oma oskusi turniiri formaadis proovile panna. See on just õige koht\, kus saada esimene paarismängu kogemus\, proovida mängu erinevate paarilistega ja arendada oma mängusoskusi. \nOsalema on oodatud kõik tennisesõbrad olenemata klubilisest kuuluvusest ning kelle mängutase ei ole kõrgem kui IV liiga. \n\nRegistreerimine avatakse igal kolmapäeval kell 12.00\nIga osaleja saab 4 x 30-minutit mänguaega\nKontaktisik: Birgit Lehtlaan\nHind: 20€\nOsalustasu tuleb tasuda ka juhul\, osalus tühistatakse vähem kui 48 tundi enne Tublide Tulijate algust
URL:https://tartutennis.ee/sundmus/tublid-tulijad-22/
CATEGORIES:Tublid Tulijad
ATTACH;FMTTYPE=image/jpeg:https://www.tartutennis.ee/wp-content/uploads/2024/12/Tennisekeskus-1-2-2.jpg
END:VEVENT
BEGIN:VEVENT
DTSTART;TZID=Europe/Helsinki:20250511T140000
DTEND;TZID=Europe/Helsinki:20250511T160000
DTSTAMP:20260423T135230
CREATED:20250507T070119Z
LAST-MODIFIED:20250507T070119Z
UID:10001070-1746972000-1746979200@tartutennis.ee
SUMMARY:Tublid Tulijad
DESCRIPTION:Igal pühapäeval kell 14:00 kuni 16:00 toimuv ajatennise formaadis paarismängu turniir\, mis on heaks alternatiiviks klubitennise huvilistele\, kes on alles tennisetreeningutega alustanud ja sooviksid oma oskusi turniiri formaadis proovile panna. See on just õige koht\, kus saada esimene paarismängu kogemus\, proovida mängu erinevate paarilistega ja arendada oma mängusoskusi. \nOsalema on oodatud kõik tennisesõbrad olenemata klubilisest kuuluvusest ning kelle mängutase ei ole kõrgem kui IV liiga. \n\nRegistreerimine avatakse igal kolmapäeval kell 12.00\nIga osaleja saab 4 x 30-minutit mänguaega\nKontaktisik: Birgit Lehtlaan\nHind: 20€\nOsalustasu tuleb tasuda ka juhul\, osalus tühistatakse vähem kui 48 tundi enne Tublide Tulijate algust
URL:https://tartutennis.ee/sundmus/tublid-tulijad-23/
CATEGORIES:Tublid Tulijad
ATTACH;FMTTYPE=image/jpeg:https://www.tartutennis.ee/wp-content/uploads/2024/12/Tennisekeskus-1-2-2.jpg
END:VEVENT
BEGIN:VEVENT
DTSTART;TZID=Europe/Helsinki:20250518T140000
DTEND;TZID=Europe/Helsinki:20250518T160000
DTSTAMP:20260423T135230
CREATED:20250507T070309Z
LAST-MODIFIED:20250507T070309Z
UID:10001072-1747576800-1747584000@tartutennis.ee
SUMMARY:Tublid Tulijad
DESCRIPTION:Igal pühapäeval kell 14:00 kuni 16:00 toimuv ajatennise formaadis paarismängu turniir\, mis on heaks alternatiiviks klubitennise huvilistele\, kes on alles tennisetreeningutega alustanud ja sooviksid oma oskusi turniiri formaadis proovile panna. See on just õige koht\, kus saada esimene paarismängu kogemus\, proovida mängu erinevate paarilistega ja arendada oma mängusoskusi. \nOsalema on oodatud kõik tennisesõbrad olenemata klubilisest kuuluvusest ning kelle mängutase ei ole kõrgem kui IV liiga. \n\nRegistreerimine avatakse igal kolmapäeval kell 12.00\nIga osaleja saab 4 x 30-minutit mänguaega\nKontaktisik: Birgit Lehtlaan\nHind: 20€\nOsalustasu tuleb tasuda ka juhul\, osalus tühistatakse vähem kui 48 tundi enne Tublide Tulijate algust
URL:https://tartutennis.ee/sundmus/tublid-tulijad-24/
CATEGORIES:Tublid Tulijad
ATTACH;FMTTYPE=image/jpeg:https://www.tartutennis.ee/wp-content/uploads/2024/12/Tennisekeskus-1-2-2.jpg
END:VEVENT
BEGIN:VEVENT
DTSTART;TZID=Europe/Helsinki:20250525T140000
DTEND;TZID=Europe/Helsinki:20250525T160000
DTSTAMP:20260423T135230
CREATED:20250507T070540Z
LAST-MODIFIED:20250507T070540Z
UID:10001075-1748181600-1748188800@tartutennis.ee
SUMMARY:Tublid Tulijad
DESCRIPTION:Igal pühapäeval kell 14:00 kuni 16:00 toimuv ajatennise formaadis paarismängu turniir\, mis on heaks alternatiiviks klubitennise huvilistele\, kes on alles tennisetreeningutega alustanud ja sooviksid oma oskusi turniiri formaadis proovile panna. See on just õige koht\, kus saada esimene paarismängu kogemus\, proovida mängu erinevate paarilistega ja arendada oma mängusoskusi. \nOsalema on oodatud kõik tennisesõbrad olenemata klubilisest kuuluvusest ning kelle mängutase ei ole kõrgem kui IV liiga. \n\nRegistreerimine avatakse igal kolmapäeval kell 12.00\nIga osaleja saab 4 x 30-minutit mänguaega\nKontaktisik: Birgit Lehtlaan\nHind: 20€\nOsalustasu tuleb tasuda ka juhul\, osalus tühistatakse vähem kui 48 tundi enne Tublide Tulijate algust
URL:https://tartutennis.ee/sundmus/tublid-tulijad-25/
CATEGORIES:Tublid Tulijad
ATTACH;FMTTYPE=image/jpeg:https://www.tartutennis.ee/wp-content/uploads/2024/12/Tennisekeskus-1-2-2.jpg
END:VEVENT
END:VCALENDAR