BEGIN:VCALENDAR
VERSION:2.0
PRODID:-//Tähtvere Tennisekeskus - ECPv6.15.19//NONSGML v1.0//EN
CALSCALE:GREGORIAN
METHOD:PUBLISH
X-ORIGINAL-URL:https://tartutennis.ee
X-WR-CALDESC:Events for Tähtvere Tennisekeskus
REFRESH-INTERVAL;VALUE=DURATION:PT1H
X-Robots-Tag:noindex
X-PUBLISHED-TTL:PT1H
BEGIN:VTIMEZONE
TZID:Europe/Helsinki
BEGIN:DAYLIGHT
TZOFFSETFROM:+0200
TZOFFSETTO:+0300
TZNAME:EEST
DTSTART:20230326T010000
END:DAYLIGHT
BEGIN:STANDARD
TZOFFSETFROM:+0300
TZOFFSETTO:+0200
TZNAME:EET
DTSTART:20231029T010000
END:STANDARD
BEGIN:DAYLIGHT
TZOFFSETFROM:+0200
TZOFFSETTO:+0300
TZNAME:EEST
DTSTART:20240331T010000
END:DAYLIGHT
BEGIN:STANDARD
TZOFFSETFROM:+0300
TZOFFSETTO:+0200
TZNAME:EET
DTSTART:20241027T010000
END:STANDARD
BEGIN:DAYLIGHT
TZOFFSETFROM:+0200
TZOFFSETTO:+0300
TZNAME:EEST
DTSTART:20250330T010000
END:DAYLIGHT
BEGIN:STANDARD
TZOFFSETFROM:+0300
TZOFFSETTO:+0200
TZNAME:EET
DTSTART:20251026T010000
END:STANDARD
BEGIN:DAYLIGHT
TZOFFSETFROM:+0200
TZOFFSETTO:+0300
TZNAME:EEST
DTSTART:20260329T010000
END:DAYLIGHT
BEGIN:STANDARD
TZOFFSETFROM:+0300
TZOFFSETTO:+0200
TZNAME:EET
DTSTART:20261025T010000
END:STANDARD
BEGIN:DAYLIGHT
TZOFFSETFROM:+0200
TZOFFSETTO:+0300
TZNAME:EEST
DTSTART:20270328T010000
END:DAYLIGHT
BEGIN:STANDARD
TZOFFSETFROM:+0300
TZOFFSETTO:+0200
TZNAME:EET
DTSTART:20271031T010000
END:STANDARD
END:VTIMEZONE
BEGIN:VEVENT
DTSTART;TZID=Europe/Helsinki:20260103T100000
DTEND;TZID=Europe/Helsinki:20260103T235900
DTSTAMP:20260422T022840
CREATED:20251124T145249Z
LAST-MODIFIED:20260105T070431Z
UID:10001169-1767434400-1767484740@tartutennis.ee
SUMMARY:Aasta Alguse Suur Tennise Avapauk
DESCRIPTION:Aastat alustame sõbralikult\, teineteise kõrval ja toel – Tähtvere Tenniseklubi ja Tartu Akadeemiline Tenniseklubi esitlevad juba neljandat korda ühte aasta oodatumaid turniire – Aasta Alguse Suur Tennise Avapauk.  \nKuupäev: 3.01.2026 algusega kell 10:00\nAsukoht: Tähtvere Tennisekeskus ja Veeriku Tennisekeskus\nAfterparty: A. Le Coq Õllemuuseumi pubi\nOsalustasu: 75€ \nOsalema on oodatud igal tasemel segapaarid – tegemist on võistkondliku segapaaristurniiriga. Igas võistkonnas on 5 erineva tasemega paari. Korraldaja jaotab paarid võistkondadesse vastavalt nende mängutasemele. Igale paarile on garanteeritud 4 kohtumist. Kuna mänguformaat on ajatennis\, siis on ühe mängu kestvuseks ette nähtud 45-minutit. No-ads ehk otsustava punkti puhul servib naine-naisele ja mees-mehele. \nSelleks\, et välistada geimide kogumisel liialt ebavõrdsed olukorrad\, kus mõni paar saab keskmisest ülekaalukalt rohkem geime\, on maksimaalne tabelis arvestusse minev geimide arv 10. \nTäpsema ajakava lisame peatselt.  \nRegistreerumine avatakse Tähtvere Tenniseklubi ja TATK-i liikmetele 12.12.2025 kell 12:00\, kõikidele teistele 19.12.2025. Registreerumine suletakse 29.12.2025 (hilisema tühistamise korral tuleb tasuda 50% osalustasust). \nKontaktisikud: Kalmer Lain +372 503 8773 ja Rando Allilender +372 5344 8790 \n \nVõistkondade tulemused\nTähtveres võistelnute tulemused\nVeerikul võistelnute tulemused
URL:https://tartutennis.ee/sundmus/aasta-alguse-suur-tennise-avapauk-2/
CATEGORIES:Muud tegemised,Tenniseklubi sündmus
ATTACH;FMTTYPE=image/jpeg:https://tartutennis.ee/wp-content/uploads/2024/12/1.jpg
END:VEVENT
BEGIN:VEVENT
DTSTART;TZID=Europe/Helsinki:20251214T110000
DTEND;TZID=Europe/Helsinki:20251214T220000
DTSTAMP:20260422T022840
CREATED:20251203T124828Z
LAST-MODIFIED:20251203T140007Z
UID:10001191-1765710000-1765749600@tartutennis.ee
SUMMARY:Tähtvere Tennisekooli ja Tenniseklubi Suur Jõulutrall
DESCRIPTION:Tähtvere Tennise Jõulutrall 2025 toimub 14.12. Tähtvere Tennisekeskuses\, kuhu on oodatud kõik Tähtvere tennisekooli ja tenniseklubi liikmed. \nHommik algab minitennise üritusega ja lõppeb õhtul klubiliikmetele mõeldud paarismängu turniiriga. \nTerve päeva jooksul saavad lapsed lõputult lustida ja avatud on ka fotonurk. Ajakavaga saate tutvuda reklaamplakatilt. Varuge aega ja nautige üheskoos päeva\, mis on täis jõulutralli! \n \n\nÜritusel on ka dresscode: punane ja/ või valge ning lapsed võiksid kanda ka päkapikumütse.\nLaua katame ühiselt ning igaüks võiks kaasa tuua just oma lemmikumad ampsud\n\nLaste ürituse osalustasu on 10€ Täiskasvanute Tennisekooli ja Klubitennise osalejate osalustasu on 30€
URL:https://tartutennis.ee/sundmus/tahtvere-tennisekooli-ja-tenniseklubi-suur-joulutrall-2/
CATEGORIES:Klubitennis,Tenniseklubi sündmus,Tennisekooli sündmus
ATTACH;FMTTYPE=image/png:https://tartutennis.ee/wp-content/uploads/2025/12/Screenshot-2025-12-03-at-15.32.04.png
END:VEVENT
BEGIN:VEVENT
DTSTART;TZID=Europe/Helsinki:20251203T180000
DTEND;TZID=Europe/Helsinki:20251203T200000
DTSTAMP:20260422T022840
CREATED:20251119T132620Z
LAST-MODIFIED:20251121T143052Z
UID:10001168-1764784800-1764792000@tartutennis.ee
SUMMARY:Unekoolitus Tähtvere Tenniseklubi liikmetele
DESCRIPTION:Uni & une kvaliteet on teemad\, mis väärivad tähelepanu. Seetõttu kutsume kõiki Tähtvere Tenniseklubi liikmeid 03.12.2025 Slepti salongi unekoolitusele\, kus uneekspert Timo Oja avab häid harjumusi\, praktilisi nippe ja väikseid trikke\, mis aitavad sul nii väljakul kui väljaspool seda parem olla. \n\n\n\n\n\n\n\n\n\nKuupäev: 03.12.2025\nAsukoht: Slepti salong – Sõbra 54\, Tartus\nAlgusaeg: 18:00 \n\n\n\n\n\n\nKui olete varasemalt kuulnud\, siis nüüd saate ka omal nahal järele proovida – Tähtvere Tennisekeskuse värske koostöö SLEPTiga on kohal! \nJa nagu ütleb vanasõna: kaks ei jää ilma kolmandata – ideaalse terviku loob selles trios 4ROOM oma erilise valgustidisainiga. \nTähtvere Tennisekeskuse 2. korruse rõdul ootab teid Slepti poolt välja pandud kaks luksuslikku tugitooli\, mis kutsuvad peatuma\, hingama ja hetkeks ainult olemist nautima. Hubasust lisab 4ROOMi ülipopulaarne SAXO valgusti – just paras annus mõnusat valgust\, et lasta mõtetel lennata või silmadel hetkeks puhata. Võta kaasa raamat või sulge lihtsalt silmad ja lase kehal taastuda – sest hea uni algab heast lõõgastusest.
URL:https://tartutennis.ee/sundmus/une-koolitus-tahtvere-tenniseklubi-liikmetele/
CATEGORIES:Muud tegemised,Tenniseklubi sündmus
ATTACH;FMTTYPE=image/jpeg:https://tartutennis.ee/wp-content/uploads/2025/11/Tennisekeskus-1.jpg
END:VEVENT
BEGIN:VEVENT
DTSTART;TZID=Europe/Helsinki:20251004T103000
DTEND;TZID=Europe/Helsinki:20251004T235900
DTSTAMP:20260422T022840
CREATED:20250219T170325Z
LAST-MODIFIED:20251002T100025Z
UID:10001036-1759573800-1759622340@tartutennis.ee
SUMMARY:Sõpruskohtumine Tabasalu Tenniseklubiga Tabamus
DESCRIPTION:Valmistuge sündmuseks\, mis raputab väljakuid\, naerutab kõhulihaseid ja kasvatab sõprussidemeid! Meil on rõõm teatada\, et Tähtvere Tenniseklubi ja Tabasalu Tenniseklubi Tabamus astuvad taas vastamisi ning jätkavad sõbralikku traditsiooni.\n\n\n\n\n\n\n\n\n\nKuupäev: 04.10.2025\nAsukoht: Tähtvere Tennisekeskus\nAlgusaeg: 10:00\nPäevakava:  \n\n10:00 Kogunemine\, tervitamine\n10:30 Algavad sõpruskohtumise soojendusringid (30-minutit ajatennist 3 vahetuses\, korraldaja poolt määratud paarilisega)\n11:30 Algavad sõpruskohtumise esimesed turniirimängud\n14:00 Lõuna\n20:00 Seltskondlik õhtusöök\, kokteilitamine ja muljetamine restoranis Aplaus 1870. Suupistevalik sisaldub osavõtutasus.\n\nSellel kohtumisel ei tõsta punktiseis mitte ainult adrenaliini\, vaid ka sõprust. Mõlemad klubid on valmis tõestama\, et tõeline võit peitub heas tujus\, ausas mängus ja pärast matši koos veedetud hetkedes. \n\n\n\n\n\n\n\nRegistreerumine turniirile avatakse 19.09.2025 päeva jooksul.\n\n\n\nKokku ootame võistlema 8 naist ja 8 meest\, tasemega II kuni IV liiga.\n\n\n\n\nKontaktisik: Kadri Kuusk ja Marian Magerin\nHind: 50€ (sisaldab 1 soojendusmängu\, 2 täispikka mängu: paarismäng\, segapaarismäng; joogivalik päeva jooksul; lõunasööki; õhtusöögi suupisteid)\n\nAjakava\, mängude tabelid jms avaldame 03.10.2025.
URL:https://tartutennis.ee/sundmus/sopruskohtumine-tabasalu-tenniseklubiga-tabamus/
CATEGORIES:Sõpruskohtumine,Tenniseklubi sündmus
ATTACH;FMTTYPE=image/jpeg:https://tartutennis.ee/wp-content/uploads/2025/01/Tennisekeskus-1-3.jpg
END:VEVENT
BEGIN:VEVENT
DTSTART;TZID=Europe/Helsinki:20250830T120000
DTEND;TZID=Europe/Helsinki:20250830T220000
DTSTAMP:20260422T022840
CREATED:20250324T133651Z
LAST-MODIFIED:20250903T072548Z
UID:10001057-1756555200-1756591200@tartutennis.ee
SUMMARY:Tenniseklubi suvehooaja lõpetamine ja püramiidi finaalturniir
DESCRIPTION:30. augustil ootab kõiki tennisefänne ja klubiliikmeid suur suve finaal – päev täis sporti\, põnevust ja ühist tähistamist! \n📅 Aeg: 30.08.2025⏰ Algus: kell 10:00 \nPildid Suvehooaja Lõpetamise päeval toimunud uuenenud siseväljakute avamisest ja Tähtvere Püramiidi autasustamisest. \nPäevaprogramm\n10:00 Väljakutele astuvad Tähtvere Tennisekooli püramiidi parimad\, et selgitada välja 2025. aasta meistrid. Oodata on kõrgetasemelist mängu ja pingelisi punkte! Finaalmängudele pääsevad igas tabelis 4 parimat\, mängitakse poolfinaalid ja finaalid\, samuti kolmanda koha mängud. \n11:00 Tähtvere Tenniseklubi Püramiidi finaalmängud. Finaalmängudele pääsevad igas tabelis 4 parimat\, mängitakse poolfinaalid ja finaalid\, samuti kolmanda koha mängud. \nPÜRAMIIDI AJAKAVA ja TABELID: \nKell 10.00 – Laste üksikmängu poolfinaalid \nmitte enne 11.00  – Laste paarismängu finaal\, Meeste üksikmängu poolfinaalid\, Naiste üksikmängu poolfinaalid \nmitte enne 12.00 – Segapaari 3. koha mäng : Triin/Andras vs  Annika/Keijo ja Sigrid/Moris kaotaja\, Meeste paarismängu poolfinaalid \nmitte enne 13.00 – Laste üksikmängu finaal ja 3. koha mäng\, Naiste finaal \njärgneb – Meeste paarismängu finaal ja 3. koha mäng\, Meeste üksikmängu finaal ja 3. koha mäng \n \n14:30 Ühine rongkäik Tähtvere Tennisekeskuse sisemajja. \n15:00 Avame pidulikult Tähtvere Tennisekeskuse täiesti uue katte saanud siseväljakud – sündmus\, mis märgib uut peatükki meie klubi ajaloos. Avalöögid teevad Tähtvere parimad ja tervitussõnad ütleb abilinnapea Meelis Leidt. \n15:30 Tähtvere meistrite autahvli avamine ja hooaja parimate autasustamine. \n17:00 Klubitennise ja Tublide Tulijate suvehooaja Grande Finale. Väljakutel on ruumi 48 mängijale. Igaühele garanteeritud 4 x 30 minutit mänguaega. Osavõtutasu: 20€. \nTule mängima\, kaasa elama ja osa saama hooaja kõige meeleolukamast tennisepäevast! \n \n📩 Küsimused? Kirjuta Annika Suunile annika@tartutennis.ee või helista +372 5667 3138 \nPANE TÄHELE!!! Osalema pääseb kokku 48 mängijat: \n\nKlubitennise Grande Finale – 36 Tähtvere Tenniseklubi liiget (vabade kohtade olemasolul ka teised tennisesõbrad)\nTublide Tulijate Grande Finale – 12 Tublide Tulijate tasemel mängijat (olenemata klubilisest kuuluvusest)\n\nGRANDE FINALE OSALEJATE NIMEKIRI: \n \n   GRANDE FINALE AJAKAVA:        \nEsimeses vahetuses lähevad kell 17.00 platsidele: \nAndres Püss \nAndres Rosin \nAngeelika Taavet \nAnne Einalo \nAnni Minin \nAnts Kippasto \nHanno Juust \nJuhani Uri \nKaisu Lehtrand \nKillu Laura Kiin \nMaanus Magerin \nMargus Laanemägi \nMarika Koolmeister \nMartin Minin \nMirjam Mikson \nOtto Conrad Kippasto \nPiret Savimägi \nSandra Uuli \nSirelyn Pommer \nTaavi Tiisler \nTiit Reisi \nToomas Römer \nVarmo Savimägi \nVitali Ossipov \n  \n Teised alustavad mängudega 17.30.  \nFormaat: ajatennis\, 30 min mängu\, siis 30 min paus. Kokku mänguaega 4*30 min. \n 
URL:https://tartutennis.ee/sundmus/suvehooaja_lopetamine/
LOCATION:Tähtvere Tennisekeskus\, Laulupeo puiestee 19\, Tartu
CATEGORIES:Klubitennis,Tenniseklubi sündmus,Tennisekooli sündmus
ATTACH;FMTTYPE=image/jpeg:https://tartutennis.ee/wp-content/uploads/2025/03/Tennisekeskus-1-2.jpg
END:VEVENT
BEGIN:VEVENT
DTSTART;TZID=Europe/Helsinki:20250608T170000
DTEND;TZID=Europe/Helsinki:20250608T233000
DTSTAMP:20260422T022840
CREATED:20250521T104905Z
LAST-MODIFIED:20250602T063239Z
UID:10001085-1749402000-1749425400@tartutennis.ee
SUMMARY:Trash the Courts & RG finaalmängu ühisvaatamine
DESCRIPTION:TRASH THE COURTS – üheõhtune pöörasus Tähtveres!Ühe korra elus (okei\, võib-olla kord kümnendi jooksul) antakse meile luba teha midagi… täiesti keelatut. Meie armsad siseväljakud lähevad uuele elule – aga enne seda? \nKujuta ette: \n\nLaud kaetud… otse keset väljakut.\nTennist mängitakse üle toidulaua (jah\, päriselt).\nKõrged kontsad? Muidugi! Las väljak tunneb veel viimast puudutust.\nKunstiannet tahad jagada? Väljak ootab su viimast pintslitõmmet.\n\nJa kui kõht täis ja meeleolu laes…Kerime üles MEGAekraani\, viskame end mõnusalt kott-toolidesse ja vaatame koos Roland Garros’ finaali. See saab olema tennis\, toit ja totaalne meelelahutus – just nagu sa seda väärid! \nSee ei ole lihtsalt üritus. See on hüvastijätt vanade väljakutega\, et uued väljakukatted saaksid tulla! \n👉 Ainult Tähtvere Tenniseklubi liikmetele. Ainult üks kord. Ainult Tähtveres.
URL:https://tartutennis.ee/sundmus/trash-the-courts/
CATEGORIES:Tenniseklubi sündmus
ATTACH;FMTTYPE=image/jpeg:https://tartutennis.ee/wp-content/uploads/2025/05/Tennisekeskus-1-1.jpg
END:VEVENT
BEGIN:VEVENT
DTSTART;TZID=Europe/Helsinki:20250607T130000
DTEND;TZID=Europe/Helsinki:20250607T180000
DTSTAMP:20260422T022840
CREATED:20250324T133156Z
LAST-MODIFIED:20250602T062039Z
UID:10001054-1749301200-1749319200@tartutennis.ee
SUMMARY:Püsitoetajate tänuüritus
DESCRIPTION:Kutsetega sündmus meie püsitoetajatele. Tähtvere Tennisekeskus tänab südamest kõiki\, kes on meie tegemistele aastate jooksul tuge andnud – just muuhulgas teie toel liigume edasi suuremate eesmärkide ja tugevama kogukonnana. Nüüd on aeg tähistada seda erilist sidet! \nTurniiril võtame mõõtu ja mängime üheskoos meie andekate Tähtvere Tennisekooli noortega. See ei ole pelgalt võistlus – see on päev täis sportlikku rõõmu\, sõbralikke pallivahetusi ja häid vestlusi. \nÜritus toimub ainult kutsetega – see on meie viis öelda aitäh\, olles samal ajal aktiivsed\, lõbusad ja rõhutades kogukonna olulisust. \nTennis ühendab. Tähtvere ühendab veel rohkem.
URL:https://tartutennis.ee/sundmus/koostoopartnerite-turniir/
LOCATION:Tähtvere Tennisekeskus\, Laulupeo puiestee 19\, Tartu
CATEGORIES:Tenniseklubi sündmus
END:VEVENT
BEGIN:VEVENT
DTSTART;TZID=Europe/Helsinki:20250524T110000
DTEND;TZID=Europe/Helsinki:20250524T233000
DTSTAMP:20260422T022840
CREATED:20250318T125916Z
LAST-MODIFIED:20250523T151740Z
UID:10001049-1748084400-1748129400@tartutennis.ee
SUMMARY:Tenniseklubi suvehooaja avamine
DESCRIPTION:NB! Üritus toimub sisehallis\, palume kõigil kaasa võtta sisejalanõud! \nTabelitega saad tutvuda siin. \nEsimene mäng algab kell 11:00 ning mängitakse täispikad mängud kahe seti võiduni. Otsustav set mängitakse tie break 10-punktini. \n \nSuvehooaja kõige stiilsem turniir ootab sind iga ilmaga! \nMeile kohaselt\, teeme asju eriti šikilt: pane selga tennisevorm oma sünniaastast ja saa osa tõelisest stiilipeost! \nOodatud on kõik Tähtvere Tenniseklubi liikmed ja maha ei tasu jätta ka kaasaelajaid\, sest tegevusi leiab sel päeval igaüks. Vajadusel tekitame naiste- ja meestehoiu ning absoluutselt kindlasti oleme mõelnud ka kõige pisemate peale\, keda ootavad eriti lustakad üllatused. \nVõistlustules on 4 tugevusgruppi ning iga paar saab vähemalt 3 täispikka mängu – sest suvine tennis vajab väärilist mänguaega:\nKohapeal toitlustab meid klubiliikmete poolt palavalt armastatud foodtruck Däp ning keha karastuseks on olemas ka rikkalik baarilett. \n \nTõsta vorm kapist välja ja kohtume väljakul! \nSinu klubi.\nSinu keskus.\nSinu elustiil.
URL:https://tartutennis.ee/sundmus/tenniseklubi-suvehooaja-avamine/
CATEGORIES:Tenniseklubi sündmus
ATTACH;FMTTYPE=image/jpeg:https://tartutennis.ee/wp-content/uploads/2025/05/Tennisekeskus-1-13.jpg
END:VEVENT
BEGIN:VEVENT
DTSTART;VALUE=DATE:20250405
DTEND;VALUE=DATE:20250407
DTSTAMP:20260422T022840
CREATED:20250112T203313Z
LAST-MODIFIED:20250219T170755Z
UID:10001000-1743811200-1743983999@tartutennis.ee
SUMMARY:Sõpruskohtumine Haapsalu Tenniseklubiga
DESCRIPTION:Valmistuge sündmuseks\, mis raputab väljakuid\, naerutab kõhulihaseid ja kasvatab sõprussidemeid! Meil on rõõm teatada\, et Tähtvere Tenniseklubi ja Haapsalu Tenniseklubi astuvad esmakordselt vastamisi ning panevad aluse aastate pikkusele traditsioonile.\n\n\n\n\n\n\n\n\n\nKuupäev: 05.-06.04.2025\nAsukoht: Haapsalu\nAlgusaeg: selgub peatselt \nSellel kohtumisel ei tõsta punktiseis mitte ainult adrenaliini\, vaid ka sõprust. Mõlemad klubid on valmis tõestama\, et tõeline võit peitub heas tujus\, ausas mängus ja pärast matši koos veedetud hetkedes. \n\n\n\n\n\n\n\nOsalemissoovide vastuvõtmine avatakse peatselt – anname sellest märku. Kuna võõrustaja määrab mängupaaride tugevuse\, siis meeskond komplekteeritakse vastavalt sellele.\nKontaktisik: Kätlin Tammearu\nHind: selgub peatselt\n\nTäpsem ajakava\, mängude tabelid jms selgub jooksvalt. Uuendame infot peatselt.
URL:https://tartutennis.ee/sundmus/sopruskohtumine-haapsalu-tenniseklubiga/
CATEGORIES:Sõpruskohtumine,Tenniseklubi sündmus
ATTACH;FMTTYPE=image/jpeg:https://tartutennis.ee/wp-content/uploads/2025/01/Tennisekeskus-1-3.jpg
END:VEVENT
BEGIN:VEVENT
DTSTART;TZID=Europe/Helsinki:20250215T190000
DTEND;TZID=Europe/Helsinki:20250215T233000
DTSTAMP:20260422T022840
CREATED:20250110T140244Z
LAST-MODIFIED:20250214T140351Z
UID:10000996-1739646000-1739662200@tartutennis.ee
SUMMARY:Tähtvere Öökas - Talve eri
DESCRIPTION:Tähtvere Öökas – tenniseelamused öövalguses! \nTähtvere Tennisekeskus kutsub Sind ja Su mängupartnerit osa saama ainulaadsest öisest tenniseturniirist – Tähtvere Öökas! Astu öisest pimedusest välja\, valgustatud väljakutele\, tunne mängu võlu ja naudi sportlikku pinget\, kui linn juba magab. \nTurniir toimub erinevates tugevusgruppides\, nii et igaüks leiab endale sobiva taseme. Olgu Sinu eesmärk võistluslik kirg või lihtsalt lõbus ajaveetmine – Tähtvere Öökas on loodud selleks\, et pakkuda tennisesõpradele unustamatuid hetki ja meeskonnatunnet. Haarake oma paariline kaasa ja looge koos mälestusi\, mis helendavad kauem kui öö ise. \n!!! MUUDATUSTEGA TABELID JA AJAKAVA \, täiendatud 14.02. kell 16.00 Tegijate ja Tulijate A liigat \n  \n  \n \n\nMängude algus 15.02. kell 19.00\nIgas alagrupis kõigile 3 x 40 min mänguaega\nKontaktisikud: Annika Suun ja Sigrid Kallam\nOsavõtutasu: 45 €
URL:https://tartutennis.ee/sundmus/tahtvere-ookas-talve-eri/
CATEGORIES:Tähtvere Öökas,Tenniseklubi sündmus
ATTACH;FMTTYPE=image/jpeg:https://tartutennis.ee/wp-content/uploads/2025/01/Tennisekeskus-1-2.jpg
END:VEVENT
BEGIN:VEVENT
DTSTART;TZID=Europe/Helsinki:20250104T100000
DTEND;TZID=Europe/Helsinki:20250104T235900
DTSTAMP:20260422T022840
CREATED:20241205T042900Z
LAST-MODIFIED:20250108T102941Z
UID:10000790-1735984800-1736035140@tartutennis.ee
SUMMARY:Aasta Alguse Suur Tennise Avapauk
DESCRIPTION:Aastat alustame sõbralikult\, teineteise kõrval ja toel – Tähtvere Tenniseklubi ja Tartu Akadeemiline Tenniseklubi esitlevad juba kolmandat korda ühte aasta oodatumaid turniire – Aasta Alguse Suur Tennise Avapauk.  \nKuupäev: 4.01.2025 algusega kell 10:00\nAsukoht: Tähtvere Tennisekeskus ja Veeriku Tennisekeskus \nOsalema on oodatud igal tasemel segapaarid – tegemist on võistkondliku segapaaristurniiriga. Igas võistkonnas on 5 erineva tasemega paari. Korraldaja jaotab paarid võistkondadesse vastavalt nende mängutasemele. Igale paarile on garanteeritud 4 kohtumist. Kuna mänguformaat on ajatennis\, siis on ühe mängu kestvuseks ette nähtud 45-minutit. No-ads ehk otsustava punkti puhul servib naine-naisele ja mees-mehele. \nAjakava:\n10:00 Algavad esimesed mängud\n13:00 Lõunasupp ja snäkid Tähtvere Tennisekeskuses ja Veeriku Tennisekeskuses\n19:00 Autasustamine ja õhtune aja veetmine Tähtvere Tennisekeskuses\nAvatud on baar ja tantsusamme aitab seada DJ Serv. \nAasta Alguse Suur Tennise Avapauk 2025 tulemused Tähtvere Tennisekeskuses\nAasta Alguse Suur Tennise Avapauk 2025 tulemused Veeriku Tennisekeskuses \nKontaktisikud: Kalmer Lain +372 503 8773 ja Rando Allilender +372 5344 8790
URL:https://tartutennis.ee/sundmus/aasta-alguse-suur-tennise-avapauk/
CATEGORIES:Tenniseklubi sündmus
ATTACH;FMTTYPE=image/jpeg:https://tartutennis.ee/wp-content/uploads/2024/12/1.jpg
END:VEVENT
BEGIN:VEVENT
DTSTART;TZID=Europe/Helsinki:20241214T183000
DTEND;TZID=Europe/Helsinki:20241214T193000
DTSTAMP:20260422T022840
CREATED:20241212T072552Z
LAST-MODIFIED:20241212T072552Z
UID:10000988-1734201000-1734204600@tartutennis.ee
SUMMARY:Spordi- ja soorituspsühholoogia ettekanne ja töötuba
DESCRIPTION:Suurel Jõulutrallil räägime natuke ka tõsist juttu – täpsemalt räägib Jakov Tsirkin meile spordi- ja soorituspsühholoogiast.\n\n\n\n Saame ülevaate spordipsühholoogilistest oskustest ja nende rollist tulemuste parandamisel. Peamine fookus on suunatud sisekõnele ja sellele\, kuidas oma tähelepanu paremini juhtida.\n\n\n Töötoas õpid: kuidas suunata oma sisekõnet\, et hoida fookust mängusituatsioonides ja kuidas vaimne valmisolek võib parandada sooritust väljakul.\n\n\n\nSobib kõigile\, kes soovivad oma mängu vaimset poolt arendada.
URL:https://tartutennis.ee/sundmus/spordi-ja-soorituspsuhholoogia-ettekanne-ja-tootuba/
CATEGORIES:Muud tegemised,Tenniseklubi sündmus
ATTACH;FMTTYPE=image/jpeg:https://tartutennis.ee/wp-content/uploads/2024/12/Joulutrall_24_1080x1080px-2.jpg
END:VEVENT
BEGIN:VEVENT
DTSTART;TZID=Europe/Helsinki:20241214T090000
DTEND;TZID=Europe/Helsinki:20241214T215900
DTSTAMP:20260422T022840
CREATED:20241203T052725Z
LAST-MODIFIED:20241214T101433Z
UID:10000001-1734166800-1734213540@tartutennis.ee
SUMMARY:Tähtvere Tennisekooli ja Tenniseklubi Suur Jõulutrall
DESCRIPTION:Tähtvere Tennise Jõulutrall 2024 toimub 14.12.2024 Tähtvere Tennisekeskuses\, kuhu on oodatud kõik Tähtvere tennisekooli ja tenniseklubi liikmed. \nHommik algab minitennise üritusega ja lõpeb õhtul klubiliikmetele mõeldud paarismängu turniiriga. \nTerve päeva jooksul saavad lapsed kaunistada piparkooke\, meisterdada jõulukaarte ja niisama lustida. Ajakavaga saate tutvuda reklaamplakatilt. Varuge aega ja nautige üheskoos päeva\, mis on täis jõulutralli! \n\nÜritusel on ka dresscode: punane ja/ või valge ning lapsed võiksid kanda ka päkapikumütse.\nÜritusel on sel aastal ka heategevuslik eesmärk – igaühel on võimalus teha väike pakike\, mis läheb ühiselt meie poolt Tartu Laste Turvakodusse. Selle jaoks palume üritusele tulles kaasa tuua pakk\, millele saab ürituse ajal töötoas juurde teha kaardi koos jõulusooviga. Kaartide materjal on töötoas olemas tennisekooli poolt. Paki sisu võiks olla maiused või kuivatatud puuviljad/snäkid (mitte kiirelt riknevad tooted).\n\nLaste ürituse osalustasu on 10€ Täiskasvanute Tennisekooli ja Klubitennise osalejate osalustasu on 30€ \nRegistreerunud osalejad:  \n\n\n\nTÄISKASVANUTE TENNISEKOOL (16:45-18:45)\nTENNISEKLUBI (19:00-00:00)\n\n\n1. Kristi Sikk\n1. Andres Aru\n\n\n2. Jana Kustjakova\n2. Taavi Tiisler\n\n\n3. Kristel Reim\n3. Juhani Uri\n\n\n4. Britta Sokk\n4. Ants Kippasto\n\n\n5. Kirke-Liisa Kevvai\n5. Eglit Allilender\n\n\n6. Anni Minin\n6. Rando Allilender\n\n\n7. Taavi Kivimäe\n7. Janek Kivilaid\n\n\n8. Kristiina Leok\n8. Birgit Nigulas\n\n\n9. Martin Leok\n9. Margus Zirk\n\n\n10. Kevin Kupper\n10. Kert-Eigo Kulla\n\n\n11. Silvia Tenisson\n11. Hanna-Stiina Pettai\n\n\n12. Tsipe Aavik\n12. Katri Kulla\n\n\n13. Kristi Leping\n13. Ville Pluum\n\n\n14. Karen Pähn\n14. Maarja-Liisa Pettai-Pluum\n\n\n15. Siisi Sammul\n15. Anett Pillmann\n\n\n16. Romili Tamm\n16. Kennart Saaremäe\n\n\n17. Danii Mürk\n17. Kätlin Tammearu\n\n\n18. Henri Juus\n18. Viljar Tammearu\n\n\n19. Jasper Kärner\n19. Taavi Sinijärv\n\n\n20. Jesse Laiverik\n20. Marjo Sinijärv\n\n\n21. Lisandra Laarman\n21. Priit Järvloo\n\n\n22. Arthur Uibopuu\n22. Irina Zvauns\n\n\n23. Angeelika Taavet \n23. Eliisa Hermlin\n\n\n24. Lauri Vetto\n24. Mait Lõhmus\n\n\n25. Anna-Leena Märjamaa-Puhm (ootelist)\n25. Hanno Juust\n\n\n26. Taavet Allas\n26. Triin Seli\n\n\n \n27. Marko Seli\n\n\n \n28. Monika Kubpart\n\n\n \n29. Ago Kubpart\n\n\n \n30. Andras Kaasik\n\n\n \n31. Kadri Kuusk\n\n\n \n32. Merike Uri\n\n\n \n33. Priit Veskimäe\n\n\n \n34. Liina Veskimäe\n\n\n \n35. Janne Unt\n\n\n \n36. Birgit Lehtlaan\n\n\n \n37. Hendrik Kangro\n\n\n \n38. Kervin Adamson \n\n\n \n39. Andres Rosin\n\n\n \n40. Mirjam Mikson\n\n\n \n41. Annely Pähn\n\n\n \n42. Marleen Mõttus\n\n\n \n43. Andres Püss\n\n\n \n44. Gristella Mõttus\n\n\n \n45. Robert Tamm\n\n\n \n46. Mia Marta Võlli\n\n\n \n47. Johanna Prans\n\n\n \n48. Robin Rait Rikberg\n\n\n \n49. Amina Andrianova\n\n\n \n50. Theresa Kaasik\n\n\n \n51. Anett-Mariin Kallas\n\n\n \n\n52. Meribel Tamsalu \n\n\n\n \n\n53. Piret Kaasik \n54. Elisabeth Kubpart
URL:https://tartutennis.ee/sundmus/tahtvere-tennisekooli-ja-tenniseklubi-suur-joulutrall/
CATEGORIES:Tenniseklubi sündmus,Tennisekooli sündmus
ATTACH;FMTTYPE=image/webp:https://tartutennis.ee/wp-content/uploads/2024/12/Joulutrall_24_A3_bl.webp
END:VEVENT
END:VCALENDAR