BEGIN:VCALENDAR
VERSION:2.0
PRODID:-//Tähtvere Tennisekeskus - ECPv6.15.19//NONSGML v1.0//EN
CALSCALE:GREGORIAN
METHOD:PUBLISH
X-ORIGINAL-URL:https://tartutennis.ee
X-WR-CALDESC:Events for Tähtvere Tennisekeskus
REFRESH-INTERVAL;VALUE=DURATION:PT1H
X-Robots-Tag:noindex
X-PUBLISHED-TTL:PT1H
BEGIN:VTIMEZONE
TZID:Europe/Helsinki
BEGIN:DAYLIGHT
TZOFFSETFROM:+0200
TZOFFSETTO:+0300
TZNAME:EEST
DTSTART:20250330T010000
END:DAYLIGHT
BEGIN:STANDARD
TZOFFSETFROM:+0300
TZOFFSETTO:+0200
TZNAME:EET
DTSTART:20251026T010000
END:STANDARD
BEGIN:DAYLIGHT
TZOFFSETFROM:+0200
TZOFFSETTO:+0300
TZNAME:EEST
DTSTART:20260329T010000
END:DAYLIGHT
BEGIN:STANDARD
TZOFFSETFROM:+0300
TZOFFSETTO:+0200
TZNAME:EET
DTSTART:20261025T010000
END:STANDARD
BEGIN:DAYLIGHT
TZOFFSETFROM:+0200
TZOFFSETTO:+0300
TZNAME:EEST
DTSTART:20270328T010000
END:DAYLIGHT
BEGIN:STANDARD
TZOFFSETFROM:+0300
TZOFFSETTO:+0200
TZNAME:EET
DTSTART:20271031T010000
END:STANDARD
END:VTIMEZONE
BEGIN:VEVENT
DTSTART;TZID=Europe/Helsinki:20260419T160000
DTEND;TZID=Europe/Helsinki:20260419T200000
DTSTAMP:20260419T174808
CREATED:20260331T080926Z
LAST-MODIFIED:20260419T071504Z
UID:10001255-1776614400-1776628800@tartutennis.ee
SUMMARY:Klubitennis
DESCRIPTION:Igal pühapäeval kell 16:00 kuni 20:00\, kahes vahetuses toimuv ajatennise formaadis paarismängu turniir\, mis pakub head võimalust oma oskusi arendada ning toredate klubiliikmete seast mängukaaslasi leida. Iga 30-minutilise sessiooni järel toimub paariliste ja vastaste vahetumine. Korraldaja võtab isiklikult ühendust mängijatega\, kes tulevad mängima kell 16:00-18:00. \nOsalema on oodatud kõik Tähtvere Tenniseklubi liikmed ning vabade kohtade olemasolul ka teised tennisesõbrad. \n\nRegistreerimine avatakse igal kolmapäeval kell 12.00\nIga osaleja saab 4 x 30-minutit mänguaega\nEnim geime kogunud klubiliige saab auhinnaks vabapääsme järgmisele klubitennisele\nKontaktisikud: Hanno Juust ja Rando Allilender\nHind: 20 €\nOsalustasu tuleb tasuda ka juhul\, osalus tühistatakse vähem kui 48 tundi enne klubitennise algust\n\nKutsetega osalejad: \nMargus Laanemägi\nEgle Thal-Laanemägi\nMait Lõhmus\nKeijo Voika\nKaspar Metsa\nErgo Mõttus\nTalvi Mõttus\nAndres Pedjak\nMeelis Meemann\nViljar Tammearu\nMaanus Magerin\nMarian Magerin\nHendrik Kangro\nKadri Kuusk\nMarko Seli
URL:https://tartutennis.ee/sundmus/klubitennis-72/
CATEGORIES:Klubitennis
ATTACH;FMTTYPE=image/jpeg:https://www.tartutennis.ee/wp-content/uploads/2025/01/Tennisekeskus-1-1.jpg
END:VEVENT
BEGIN:VEVENT
DTSTART;TZID=Europe/Helsinki:20260426T160000
DTEND;TZID=Europe/Helsinki:20260426T200000
DTSTAMP:20260419T174808
CREATED:20260331T081040Z
LAST-MODIFIED:20260331T081040Z
UID:10001256-1777219200-1777233600@tartutennis.ee
SUMMARY:Klubitennis
DESCRIPTION:Igal pühapäeval kell 16:00 kuni 20:00\, kahes vahetuses toimuv ajatennise formaadis paarismängu turniir\, mis pakub head võimalust oma oskusi arendada ning toredate klubiliikmete seast mängukaaslasi leida. Iga 30-minutilise sessiooni järel toimub paariliste ja vastaste vahetumine. Korraldaja võtab isiklikult ühendust mängijatega\, kes tulevad mängima kell 16:00-18:00. \nOsalema on oodatud kõik Tähtvere Tenniseklubi liikmed ning vabade kohtade olemasolul ka teised tennisesõbrad. \n\nRegistreerimine avatakse igal kolmapäeval kell 12.00\nIga osaleja saab 4 x 30-minutit mänguaega\nEnim geime kogunud klubiliige saab auhinnaks vabapääsme järgmisele klubitennisele\nKontaktisikud: Hanno Juust ja Rando Allilender\nHind: 20 €\nOsalustasu tuleb tasuda ka juhul\, osalus tühistatakse vähem kui 48 tundi enne klubitennise algust\n\nKutsetega osalejad: \nMargus Laanemägi\nEgle Thal-Laanemägi\nMait Lõhmus\nKeijo Voika\nKaspar Metsa\nErgo Mõttus\nTalvi Mõttus\nAndres Pedjak\nMeelis Meemann\nViljar Tammearu\nMaanus Magerin\nMarian Magerin\nHendrik Kangro\nKadri Kuusk\nMarko Seli
URL:https://tartutennis.ee/sundmus/klubitennis-73/
CATEGORIES:Klubitennis
ATTACH;FMTTYPE=image/jpeg:https://www.tartutennis.ee/wp-content/uploads/2025/01/Tennisekeskus-1-1.jpg
END:VEVENT
BEGIN:VEVENT
DTSTART;TZID=Europe/Helsinki:20260503T160000
DTEND;TZID=Europe/Helsinki:20260503T200000
DTSTAMP:20260419T174808
CREATED:20260331T081218Z
LAST-MODIFIED:20260331T081218Z
UID:10001257-1777824000-1777838400@tartutennis.ee
SUMMARY:Klubitennis
DESCRIPTION:Igal pühapäeval kell 16:00 kuni 20:00\, kahes vahetuses toimuv ajatennise formaadis paarismängu turniir\, mis pakub head võimalust oma oskusi arendada ning toredate klubiliikmete seast mängukaaslasi leida. Iga 30-minutilise sessiooni järel toimub paariliste ja vastaste vahetumine. Korraldaja võtab isiklikult ühendust mängijatega\, kes tulevad mängima kell 16:00-18:00. \nOsalema on oodatud kõik Tähtvere Tenniseklubi liikmed ning vabade kohtade olemasolul ka teised tennisesõbrad. \n\nRegistreerimine avatakse igal kolmapäeval kell 12.00\nIga osaleja saab 4 x 30-minutit mänguaega\nEnim geime kogunud klubiliige saab auhinnaks vabapääsme järgmisele klubitennisele\nKontaktisikud: Hanno Juust ja Rando Allilender\nHind: 20 €\nOsalustasu tuleb tasuda ka juhul\, osalus tühistatakse vähem kui 48 tundi enne klubitennise algust\n\nKutsetega osalejad: \nMargus Laanemägi\nEgle Thal-Laanemägi\nMait Lõhmus\nKeijo Voika\nKaspar Metsa\nErgo Mõttus\nTalvi Mõttus\nAndres Pedjak\nMeelis Meemann\nViljar Tammearu\nMaanus Magerin\nMarian Magerin\nHendrik Kangro\nKadri Kuusk\nMarko Seli
URL:https://tartutennis.ee/sundmus/klubitennis-74/
CATEGORIES:Klubitennis
ATTACH;FMTTYPE=image/jpeg:https://www.tartutennis.ee/wp-content/uploads/2025/01/Tennisekeskus-1-1.jpg
END:VEVENT
END:VCALENDAR