BEGIN:VCALENDAR
VERSION:2.0
PRODID:-//Tähtvere Tennisekeskus - ECPv6.15.19//NONSGML v1.0//EN
CALSCALE:GREGORIAN
METHOD:PUBLISH
X-ORIGINAL-URL:https://tartutennis.ee
X-WR-CALDESC:Events for Tähtvere Tennisekeskus
REFRESH-INTERVAL;VALUE=DURATION:PT1H
X-Robots-Tag:noindex
X-PUBLISHED-TTL:PT1H
BEGIN:VTIMEZONE
TZID:Europe/Helsinki
BEGIN:DAYLIGHT
TZOFFSETFROM:+0200
TZOFFSETTO:+0300
TZNAME:EEST
DTSTART:20250330T010000
END:DAYLIGHT
BEGIN:STANDARD
TZOFFSETFROM:+0300
TZOFFSETTO:+0200
TZNAME:EET
DTSTART:20251026T010000
END:STANDARD
BEGIN:DAYLIGHT
TZOFFSETFROM:+0200
TZOFFSETTO:+0300
TZNAME:EEST
DTSTART:20260329T010000
END:DAYLIGHT
BEGIN:STANDARD
TZOFFSETFROM:+0300
TZOFFSETTO:+0200
TZNAME:EET
DTSTART:20261025T010000
END:STANDARD
BEGIN:DAYLIGHT
TZOFFSETFROM:+0200
TZOFFSETTO:+0300
TZNAME:EEST
DTSTART:20270328T010000
END:DAYLIGHT
BEGIN:STANDARD
TZOFFSETFROM:+0300
TZOFFSETTO:+0200
TZNAME:EET
DTSTART:20271031T010000
END:STANDARD
END:VTIMEZONE
BEGIN:VEVENT
DTSTART;TZID=Europe/Helsinki:20260301T160000
DTEND;TZID=Europe/Helsinki:20260301T200000
DTSTAMP:20260419T175125
CREATED:20260127T143356Z
LAST-MODIFIED:20260127T143356Z
UID:10001217-1772380800-1772395200@tartutennis.ee
SUMMARY:Klubitennis
DESCRIPTION:Igal pühapäeval kell 16:00 kuni 20:00\, kahes vahetuses toimuv ajatennise formaadis paarismängu turniir\, mis pakub head võimalust oma oskusi arendada ning toredate klubiliikmete seast mängukaaslasi leida. Iga 30-minutilise sessiooni järel toimub paariliste ja vastaste vahetumine. Korraldaja võtab isiklikult ühendust mängijatega\, kes tulevad mängima kell 16:00-18:00. \nOsalema on oodatud kõik Tähtvere Tenniseklubi liikmed ning vabade kohtade olemasolul ka teised tennisesõbrad. \n\nRegistreerimine avatakse igal kolmapäeval kell 12.00\nIga osaleja saab 4 x 30-minutit mänguaega\nEnim geime kogunud klubiliige saab auhinnaks vabapääsme järgmisele klubitennisele\nKontaktisikud: Hanno Juust ja Rando Allilender\nHind: 20 €\nOsalustasu tuleb tasuda ka juhul\, osalus tühistatakse vähem kui 48 tundi enne klubitennise algust\n\nKutsetega osalejad: \nMargus Laanemägi\nEgle Thal-Laanemägi\nMait Lõhmus\nKeijo Voika\nKaspar Metsa\nErgo Mõttus\nTalvi Mõttus\nAndres Pedjak\nMeelis Meemann\nViljar Tammearu\nMaanus Magerin\nMarian Magerin\nHendrik Kangro\nAndras Kaasik\nIrina Zvauns\nPriit Järvloo
URL:https://tartutennis.ee/sundmus/klubitennis-65/
CATEGORIES:Klubitennis
ATTACH;FMTTYPE=image/jpeg:https://www.tartutennis.ee/wp-content/uploads/2025/01/Tennisekeskus-1-1.jpg
END:VEVENT
BEGIN:VEVENT
DTSTART;TZID=Europe/Helsinki:20260308T160000
DTEND;TZID=Europe/Helsinki:20260308T200000
DTSTAMP:20260419T175125
CREATED:20260225T094434Z
LAST-MODIFIED:20260225T094434Z
UID:10001228-1772985600-1773000000@tartutennis.ee
SUMMARY:Klubitennis
DESCRIPTION:Igal pühapäeval kell 16:00 kuni 20:00\, kahes vahetuses toimuv ajatennise formaadis paarismängu turniir\, mis pakub head võimalust oma oskusi arendada ning toredate klubiliikmete seast mängukaaslasi leida. Iga 30-minutilise sessiooni järel toimub paariliste ja vastaste vahetumine. Korraldaja võtab isiklikult ühendust mängijatega\, kes tulevad mängima kell 16:00-18:00. \nOsalema on oodatud kõik Tähtvere Tenniseklubi liikmed ning vabade kohtade olemasolul ka teised tennisesõbrad. \n\nRegistreerimine avatakse igal kolmapäeval kell 12.00\nIga osaleja saab 4 x 30-minutit mänguaega\nEnim geime kogunud klubiliige saab auhinnaks vabapääsme järgmisele klubitennisele\nKontaktisikud: Hanno Juust ja Rando Allilender\nHind: 20 €\nOsalustasu tuleb tasuda ka juhul\, osalus tühistatakse vähem kui 48 tundi enne klubitennise algust\n\nKutsetega osalejad: \nMargus Laanemägi\nEgle Thal-Laanemägi\nMait Lõhmus\nKeijo Voika\nKaspar Metsa\nErgo Mõttus\nTalvi Mõttus\nAndres Pedjak\nMeelis Meemann\nViljar Tammearu\nMaanus Magerin\nMarian Magerin\nHendrik Kangro\nAndras Kaasik\nIrina Zvauns\nPriit Järvloo
URL:https://tartutennis.ee/sundmus/klubitennis-67/
CATEGORIES:Klubitennis
ATTACH;FMTTYPE=image/jpeg:https://www.tartutennis.ee/wp-content/uploads/2025/01/Tennisekeskus-1-1.jpg
END:VEVENT
BEGIN:VEVENT
DTSTART;TZID=Europe/Helsinki:20260315T160000
DTEND;TZID=Europe/Helsinki:20260315T200000
DTSTAMP:20260419T175125
CREATED:20260225T094547Z
LAST-MODIFIED:20260313T101721Z
UID:10001229-1773590400-1773604800@tartutennis.ee
SUMMARY:Klubitennis
DESCRIPTION:Igal pühapäeval kell 16:00 kuni 20:00\, kahes vahetuses toimuv ajatennise formaadis paarismängu turniir\, mis pakub head võimalust oma oskusi arendada ning toredate klubiliikmete seast mängukaaslasi leida. Iga 30-minutilise sessiooni järel toimub paariliste ja vastaste vahetumine. Korraldaja võtab isiklikult ühendust mängijatega\, kes tulevad mängima kell 16:00-18:00. \nOsalema on oodatud kõik Tähtvere Tenniseklubi liikmed ning vabade kohtade olemasolul ka teised tennisesõbrad. \n\nRegistreerimine avatakse igal kolmapäeval kell 12.00\nIga osaleja saab 4 x 30-minutit mänguaega\nEnim geime kogunud klubiliige saab auhinnaks vabapääsme järgmisele klubitennisele\nKontaktisikud: Hanno Juust ja Rando Allilender\nHind: 20 €\nOsalustasu tuleb tasuda ka juhul\, osalus tühistatakse vähem kui 48 tundi enne klubitennise algust\n\nKutsetega osalejad: \nMargus Laanemägi\nEgle Thal-Laanemägi\nMait Lõhmus\nKeijo Voika\nKaspar Metsa\nErgo Mõttus\nTalvi Mõttus\nAndres Pedjak\nMeelis Meemann\nViljar Tammearu\nMaanus Magerin\nMarian Magerin\nHendrik Kangro\nKadri Kuusk\nMarko Seli
URL:https://tartutennis.ee/sundmus/klubitennis-68/
CATEGORIES:Klubitennis
ATTACH;FMTTYPE=image/jpeg:https://www.tartutennis.ee/wp-content/uploads/2025/01/Tennisekeskus-1-1.jpg
END:VEVENT
BEGIN:VEVENT
DTSTART;TZID=Europe/Helsinki:20260322T160000
DTEND;TZID=Europe/Helsinki:20260322T200000
DTSTAMP:20260419T175125
CREATED:20260225T094652Z
LAST-MODIFIED:20260320T070946Z
UID:10001230-1774195200-1774209600@tartutennis.ee
SUMMARY:Klubitennis
DESCRIPTION:Igal pühapäeval kell 16:00 kuni 20:00\, kahes vahetuses toimuv ajatennise formaadis paarismängu turniir\, mis pakub head võimalust oma oskusi arendada ning toredate klubiliikmete seast mängukaaslasi leida. Iga 30-minutilise sessiooni järel toimub paariliste ja vastaste vahetumine. Korraldaja võtab isiklikult ühendust mängijatega\, kes tulevad mängima kell 16:00-18:00. \nOsalema on oodatud kõik Tähtvere Tenniseklubi liikmed ning vabade kohtade olemasolul ka teised tennisesõbrad. \n\nRegistreerimine avatakse igal kolmapäeval kell 12.00\nIga osaleja saab 4 x 30-minutit mänguaega\nEnim geime kogunud klubiliige saab auhinnaks vabapääsme järgmisele klubitennisele\nKontaktisikud: Hanno Juust ja Rando Allilender\nHind: 20 €\nOsalustasu tuleb tasuda ka juhul\, osalus tühistatakse vähem kui 48 tundi enne klubitennise algust\n\nKutsetega osalejad: \nMargus Laanemägi\nEgle Thal-Laanemägi\nMait Lõhmus\nKeijo Voika\nKaspar Metsa\nErgo Mõttus\nTalvi Mõttus\nAndres Pedjak\nMeelis Meemann\nViljar Tammearu\nMaanus Magerin\nMarian Magerin\nHendrik Kangro\nKadri Kuusk\nMarko Seli
URL:https://tartutennis.ee/sundmus/klubitennis-69/
CATEGORIES:Klubitennis
ATTACH;FMTTYPE=image/jpeg:https://www.tartutennis.ee/wp-content/uploads/2025/01/Tennisekeskus-1-1.jpg
END:VEVENT
BEGIN:VEVENT
DTSTART;TZID=Europe/Helsinki:20260329T160000
DTEND;TZID=Europe/Helsinki:20260329T200000
DTSTAMP:20260419T175125
CREATED:20260323T123036Z
LAST-MODIFIED:20260323T123036Z
UID:10001247-1774800000-1774814400@tartutennis.ee
SUMMARY:Klubitennis / TURNIIRI EI TOIMU
DESCRIPTION:Igal pühapäeval kell 16:00 kuni 20:00\, kahes vahetuses toimuv ajatennise formaadis paarismängu turniir\, mis pakub head võimalust oma oskusi arendada ning toredate klubiliikmete seast mängukaaslasi leida. Iga 30-minutilise sessiooni järel toimub paariliste ja vastaste vahetumine. Korraldaja võtab isiklikult ühendust mängijatega\, kes tulevad mängima kell 16:00-18:00. \nOsalema on oodatud kõik Tähtvere Tenniseklubi liikmed ning vabade kohtade olemasolul ka teised tennisesõbrad. \n\nRegistreerimine avatakse igal kolmapäeval kell 12.00\nIga osaleja saab 4 x 30-minutit mänguaega\nEnim geime kogunud klubiliige saab auhinnaks vabapääsme järgmisele klubitennisele\nKontaktisikud: Hanno Juust ja Rando Allilender\nHind: 20 €\nOsalustasu tuleb tasuda ka juhul\, osalus tühistatakse vähem kui 48 tundi enne klubitennise algust\n\nKutsetega osalejad: \nMargus Laanemägi\nEgle Thal-Laanemägi\nMait Lõhmus\nKeijo Voika\nKaspar Metsa\nErgo Mõttus\nTalvi Mõttus\nAndres Pedjak\nMeelis Meemann\nViljar Tammearu\nMaanus Magerin\nMarian Magerin\nHendrik Kangro\nKadri Kuusk\nMarko Seli
URL:https://tartutennis.ee/sundmus/klubitennis-turniiri-ei-toimu/
CATEGORIES:Klubitennis
ATTACH;FMTTYPE=image/jpeg:https://www.tartutennis.ee/wp-content/uploads/2025/01/Tennisekeskus-1-1.jpg
END:VEVENT
BEGIN:VEVENT
DTSTART;TZID=Europe/Helsinki:20260329T180000
DTEND;TZID=Europe/Helsinki:20260329T200000
DTSTAMP:20260419T175125
CREATED:20260323T121800Z
LAST-MODIFIED:20260327T112447Z
UID:10001248-1774807200-1774814400@tartutennis.ee
SUMMARY:Klubi rannatennis
DESCRIPTION:29. märtsil kell 18–20:00 toimub erandkorras Net Spordihallis klubi rannatennise turniir – mõnus ja tempokas mänguõhtu\, kus saad proovile panna oma oskused ning nautida head seltskonda. Osalema pääseb esimesed 16 esimest registreerunut. \nOsalema on oodatud kõik Tähtvere Tenniseklubi liikmed ning vabade kohtade olemasolul ka teised rannatennise huvilised. Registreerimine avatakse peagi \nKohtade arv: 16 mängijatMänguaeg: 2 tundiKontaktisik: Rando AllilenderHind: 20 € \nOsalustasu tuleb tasuda ka juhul\, kui osalus tühistatakse vähem kui 48 tundi enne ürituse algust
URL:https://tartutennis.ee/sundmus/klubi-rannatennis/
CATEGORIES:Klubitennis
ATTACH;FMTTYPE=image/jpeg:https://www.tartutennis.ee/wp-content/uploads/2025/01/Tennisekeskus-1-1.jpg
END:VEVENT
END:VCALENDAR